BEGIN:VCALENDAR
VERSION:2.0
CALSCALE:GREGORIAN
PRODID:adamgibbons/ics
METHOD:PUBLISH
X-PUBLISHED-TTL:PT1H
BEGIN:VEVENT
UID:5984@lapunta.org
SUMMARY:PRESENTAZIONE del n.30 della rivista JACOBIN Italia 📖 Socialism for
	 future
DTSTAMP:20260421T082112Z
DTSTART:20260322T163000Z
DTEND:20260322T183000Z
DESCRIPTION:abbiamo scelto di fare una ricognizione sull’orizzonte possibil
	e.\nDall’altra parte dell’Oceano c’è Zohran Mamdani\, sindaco di New York 
	che non\nesita a definirsi socialista e che è cresciuto molto vicino alla 
	storia\nstatunitense di questa rivista.\nÈ insomma il caso di chiedersi\, 
	sulla scorta degli eventi e delle esperienze che\nabbiamo accumulato\, com
	e si costruiscono e si definiscono oggi un’azione e un\nprogramma socialis
	ti alle condizioni attuali\, consapevoli che questa parola\n(soprattutto i
	n Europa) è stata in diversi modi pervertita e ha rischiato di\nperdere se
	nso.\nInvece\, le lotte femministe e quelle per l’ambiente\, la crisi del 
	neoliberismo e\nle grandi contraddizioni che ci presenta\, ci impongono di
	 andare avanti con\nl’immaginazione e le pratiche di un’alternativa possib
	ile.\n\nIn avvicinamento al Festival di Letteratura Working Class 2026 "Se
	nza chiedere\nil permesso" del Collettivo di Fabbrica exGKN ne parliamo\nD
	OMENICA 22 MARZO\, ore 17.30\ncon la\n\n\n\nPRESENTAZIONE DEL N.30 DELLA R
	IVISTA JACOBIN ITALIA SOCIALISM FOR FUTURE\n\ngrazie agli interventi di\n_
	 Giacomo Gabbuti\, redazione JACOBIN Italia\, co-autore di "Il socialismo 
	qui e\nora"\;\n_ Paola Imperatore\, redazione JACOBIN Italia e co-autrice 
	di "Ripartire dal\nsocialismo democratico"\;\n_ Jacopo Bindi Academy of De
	mocratic Modernity\,\n_ Francesca Gabbriellini\, redazione JACOBIN Italia\
	, co-autrice di "Il ritorno\ndella pianificazione ecologica"\;\n_ Valentin
	a Baronti\, scrittrice Working Class e coord. 4°ediz. Festival\nLetteratur
	a WorkClass\;\n\n…per un tentativo di riaprire una finestra di opportunità
	: ricominciare a\nnominare quella parola provando a darne un senso nuovo e
	 all’altezza dei tempi.\nUn Socialism for future non solo perché guarda av
	anti\, ma perché si connette\nalle lotte dei movimenti\, ai desideri di li
	bertà\, alla necessità di declinare\nanche le esigenze riformistiche in un
	a chiave di transizione verso un altro\nmondo. Senza perdere di vista un o
	rizzonte di rivoluzione sociale. In tempi come\nquesti abbiamo bisogno di 
	una «nuova immaginazione socialista»\, diceva qualche\nanno fa – erano i t
	empi del Covid – David Harvey. Quell’auspicio resta quanto\nmai attuale e 
	questa rivista si ritiene pienamente investita del compito\, e del\ngusto\
	, di contribuire a quell’immaginazione.\n\nCircolo ARCI Unione Operaia di 
	Colonnata\npiazza Mario Rapisardi 6\, SESTO FIORENTINO\n\nINGRESSO LIBERO 
	fino ad esaurimento posti.\n\na seguire aperello conviviale\n\nCopie della
	 rivista JACOBIN Italia disponibili all'acquisto in loco\n\nhttps://www.fa
	cebook.com/events/1233715961756024\n[https://www.facebook.com/events/12337
	15961756024]\ngruppoletturajacobinpiana@gmail.com
URL:https://lapunta.org/event/presentazione-del-n30-della-rivista-jacobin-i
	talia-socialism-for-future
LOCATION:Circolo Arci Unione Operaia Colonnata - Piazza Mario Rapisardi\, 6
	\, 50019 Sesto Fiorentino FI
STATUS:CONFIRMED
CATEGORIES:JACOBIN ITALIA,Piana toscana,Sesto Fiorentino,festival letteratu
	ra working class,gruppo di lettura jacobino,socialismo
X-ALT-DESC;FMTTYPE=text/html:<p><em>abbiamo scelto di fare una ricognizione
	 sull’orizzonte possibile.<br>Dall’altra parte dell’Oceano c’è Zohran Mamd
	ani, sindaco di New York che non esita a definirsi socialista e che è cres
	ciuto molto vicino alla storia statunitense di questa rivista.<br>È insomm
	a il caso di chiedersi, sulla scorta degli eventi e delle esperienze che a
	bbiamo accumulato, come si costruiscono e si definiscono oggi un’azione e 
	un programma socialisti alle condizioni attuali, consapevoli che questa pa
	rola (soprattutto in Europa) è stata in diversi modi pervertita e ha risch
	iato di perdere senso.<br>Invece, le lotte femministe e quelle per l’ambie
	nte, la crisi del neoliberismo e le grandi contraddizioni che ci presenta,
	 ci impongono di andare avanti con l’immaginazione e le pratiche di un’alt
	ernativa possibile.</em></p><p>In avvicinamento al Festival di Letteratura
	 Working Class 2026 <em>"Senza chiedere il permesso"</em> del Collettivo d
	i Fabbrica exGKN ne parliamo<br> <strong><u>DOMENICA 22 MARZO, ore 17.30</
	u></strong><br>con la</p><h2><br><strong>PRESENTAZIONE del n.30 della rivi
	sta JACOBIN Italia Socialism for future</strong></h2><p>grazie agli interv
	enti di <br>_ Giacomo Gabbuti, redazione JACOBIN Italia, co-autore di "Il 
	socialismo qui e ora";<br>_ Paola Imperatore, redazione JACOBIN Italia e c
	o-autrice di "Ripartire dal socialismo democratico";<br>_ Jacopo Bindi Aca
	demy of Democratic Modernity,<br>_ Francesca Gabbriellini, redazione JACOB
	IN Italia, co-autrice di "Il ritorno della pianificazione ecologica";<br>_
	 Valentina Baronti, scrittrice Working Class e coord. 4°ediz. Festival Let
	teratura WorkClass;</p><p><em>…per un tentativo di riaprire una finestra d
	i opportunità: ricominciare a nominare quella parola provando a darne un s
	enso nuovo e all’altezza dei tempi. Un Socialism for future non solo perch
	é guarda avanti, ma perché si connette alle lotte dei movimenti, ai deside
	ri di libertà, alla necessità di declinare anche le esigenze riformistiche
	 in una chiave di transizione verso un altro mondo. Senza perdere di vista
	 un orizzonte di rivoluzione sociale. In tempi come questi abbiamo bisogno
	 di una «nuova immaginazione socialista», diceva qualche anno fa – erano i
	 tempi del Covid – David Harvey. Quell’auspicio resta quanto mai attuale e
	 questa rivista si ritiene pienamente investita del compito, e del gusto, 
	di contribuire a quell’immaginazione.</em></p><p><strong>Circolo ARCI Unio
	ne Operaia di Colonnata<br>piazza Mario Rapisardi 6, SESTO FIORENTINO</str
	ong></p><p>INGRESSO LIBERO fino ad esaurimento posti.</p><p><strong>a segu
	ire aperello conviviale</strong></p><p>Copie della rivista JACOBIN Italia 
	disponibili all'acquisto in loco</p><p><a target="_blank" href="https://ww
	w.facebook.com/events/1233715961756024"><strong>https://www.facebook.com/e
	vents/1233715961756024</strong></a><br> gruppoletturajacobinpiana@gmail.co
	m</p>
END:VEVENT
BEGIN:VEVENT
UID:5365@lapunta.org
SUMMARY:PRESENTAZIONE del n.28 della rivista 📖 JACOBIN Italia *CASA A PRIMA
	 VISTA*
DTSTAMP:20260421T082112Z
DTSTART:20251012T090000Z
DTEND:20251012T133000Z
DESCRIPTION:PRESENTAZIONE DEL N.28 DELLA RIVISTA  JACOBIN ITALIA\n\n\n*CASA
	 A PRIMA VISTA* [https://www.facebook.com/events/1013401800870495/]\n\n...
	\n\nIndagine sul tema della casa come nodo centrale delle attuali diseguag
	lianze e\ningiustizie sociali\, inquadrandolo dentro l’ultradecennale care
	nza di politiche\npubbliche\, in un contesto di trasformazioni delle forme
	 speculative e del\ncomando\, mettendo a critica la forma stessa dell’abit
	are dominante. \n\n\n DOMENICA 12 OTTOBRE \n\nore 11.00\n\nintervengono \n
	\nCarlotta Caciagli - ricercatrice al Politecnico di Milano su movimenti u
	rbani\nnel tardo capitalismo\, autrice di 'Movimenti urbani' (Mondadori\, 
	2021) e\nredattrice dell'articolo "Pubblico è meglio"\;\n\nGiulia Contini 
	-  avvocata pisana\, attivista per il diritto alla casa\nall’interno dell’
	Unione inquilini di Pisa e componente della segreteria\nnazionale\, redatt
	rice dell'inserto "Resistenza Inquilina"\;\n\n_Sandro Targetti_ di Rete An
	tisfratto Fiorentina\,\n\n(interventi in aggiornamento...) \n\n\n A SEGUIR
	E PRANZO BENEFIT PROPAL \n\nmenù completo di bevande ad offerta libera con
	sigliata da 20€\n\n(riduz per bambin/students/disoccupt)\n\n\n CASA DEL PO
	POLO DI CAFAGGIO\n\nvia del Ferro 26\, PRATO sud\n\n e prenotazioni:\n\nht
	tps://www.facebook.com/events/1013401800870495/\n[https://www.facebook.com
	/events/1013401800870495/]\n\n gruppoletturajacobinpiana@gmail.com [gruppo
	letturajacobinpiana@gmail.com] \n\n Copie della rivista JACOBIN Italia dis
	ponibili all'acquisto in loco
URL:https://lapunta.org/event/presentazione-del-n28-della-rivista-jacobin-i
	talia-casa-a-prima-vista
LOCATION:Casa del Popolo di Cafaggio Circolo ARCI - via del Ferro 26\, Prat
	o
STATUS:CONFIRMED
CATEGORIES:Diritto alla casa,FreePalestine,JACOBIN ITALIA,Palestina,Piana t
	oscana,Prato,casa del popolo,gruppo di lettura jacobino
X-ALT-DESC;FMTTYPE=text/html:<h2>PRESENTAZIONE del n.28 della rivista&nbsp;
	&nbsp;JACOBIN Italia</h2><h1><a target="_blank" href="https://www.facebook
	.com/events/1013401800870495/">*CASA A PRIMA VISTA*</a></h1><p>...</p><p>I
	ndagine sul tema della casa come nodo centrale delle attuali diseguaglianz
	e e ingiustizie sociali, inquadrandolo dentro l’ultradecennale carenza di 
	politiche pubbliche, in un contesto di trasformazioni delle forme speculat
	ive e del comando, mettendo a critica la forma stessa dell’abitare dominan
	te.&nbsp;</p><h3><strong>&nbsp;DOMENICA 12 OTTOBRE&nbsp;</strong></h3><p><
	strong>ore 11.00</strong></p><p>intervengono&nbsp;</p><p><strong><em>Carlo
	tta&nbsp;Caciagli</em></strong>&nbsp;- ricercatrice al Politecnico di Mila
	no su movimenti urbani nel tardo capitalismo, autrice di 'Movimenti urbani
	' (Mondadori, 2021) e redattrice dell'articolo "Pubblico è meglio";</p><p>
	<strong><em>Giulia Contini</em></strong>&nbsp;-&nbsp; avvocata pisana, att
	ivista per il diritto alla casa all’interno dell’Unione inquilini di Pisa 
	e componente della segreteria nazionale, redattrice dell'inserto "Resisten
	za Inquilina";</p><p><strong><em>_Sandro&nbsp;Targetti</em></strong>_ di R
	ete Antisfratto Fiorentina,</p><p>(interventi in aggiornamento...)&nbsp;</
	p><h2>&nbsp;<em>a seguire pranzo benefit proPAL</em>&nbsp;</h2><p>menù com
	pleto di bevande ad offerta libera consigliata da 20€</p><p>(riduz per bam
	bin<em>/students/disoccupt</em>)</p><h3>&nbsp;CASA del POPOLO di CAFAGGIO<
	/h3><p>via del Ferro 26, PRATO sud</p><p>&nbsp;e prenotazioni:</p><p><a ta
	rget="_blank" href="https://www.facebook.com/events/1013401800870495/">htt
	ps://www.facebook.com/events/1013401800870495/</a></p><p>&nbsp;<a target="
	_blank" href="mailto:gruppoletturajacobinpiana@gmail.com">gruppoletturajac
	obinpiana@gmail.com</a>&nbsp;</p><p>&nbsp;Copie della rivista JACOBIN Ital
	ia disponibili all'acquisto in loco</p>
END:VEVENT
BEGIN:VEVENT
UID:4955@lapunta.org
SUMMARY:Radici Ribelli\, raduno a Valibona 1 _2 giugno
DTSTAMP:20260421T082112Z
DTSTART:20250601T070000Z
DTEND:20250602T170000Z
DESCRIPTION:per la festa di questa strana Repubblica\, nata dalla Resistenz
	a\, "fondata sul\nlavoro"\, che "ripudia la guerra" e "tutela l'ambiente"\
	, mentre in realtà pare\npurtroppo tutt'altro.. si invita ad un ritrovo al
	 Memoriale di Valibona\, "sui\nluoghi dov'è nata la Costituzione" con camm
	inate sui sentieri partigiani\, pranzi\ncollettivi\, forum e attività conv
	iviali\, piantando insieme\n\n\nRADICI RIBELLI\n[https://docs.google.com/f
	orms/d/e/1FAIpQLScyeSrwwWrJcD3izouKlWTDg0HhyuBiYCsk21lyVxxio6RUrA/viewform
	?usp=dialog]\n\n\nRADUNO A VALIBONA 1\, 2 GIUGNO\n\nper una festa della Re
	pubblica libera\, di pace e partigiana in quel di Valibona\n\nInfo e progr
	amma\nhttps://docs.google.com/forms/d/e/1FAIpQLScyeSrwwWrJcD3izouKlWTDg0Hh
	yuBiYCsk21lyVxxio6RUrA/viewform?usp=dialog\n[https://docs.google.com/forms
	/d/e/1FAIpQLScyeSrwwWrJcD3izouKlWTDg0HhyuBiYCsk21lyVxxio6RUrA/viewform?usp
	=dialog]\n\ninvito libero\, richiesta di compilazione del form per agevola
	re\nl'organizzazione. Grazie
URL:https://lapunta.org/event/radici-ribelli-raduno-a-valibona-1-_2-giugno
LOCATION:Memoriale Valibona\, Calenzano - via di Montemaggiore\, Calenzano
STATUS:CONFIRMED
CATEGORIES:Piana toscana,Valibona,benefit,forum e attività conviviali,inizi
	ative,pranzo sociale,sentieri partigiani,social forum
X-ALT-DESC;FMTTYPE=text/html:<p>per la festa di questa strana Repubblica, n
	ata dalla Resistenza, <em>"fondata sul lavoro"</em>, che <em>"ripudia la g
	uerra"</em> e <em>"tutela l'ambiente"</em>, mentre in realtà pare purtropp
	o tutt'altro.. si invita ad un ritrovo al Memoriale di Valibona, <em>"sui 
	luoghi dov'è nata la Costituzione"</em> con camminate sui sentieri partigi
	ani, pranzi collettivi, forum e attività conviviali, piantando insieme</p>
	<h1><a target="_blank" href="https://docs.google.com/forms/d/e/1FAIpQLScye
	SrwwWrJcD3izouKlWTDg0HhyuBiYCsk21lyVxxio6RUrA/viewform?usp=dialog"><em>Rad
	ici Ribelli</em></a></h1><h3><em> raduno a Valibona 1, 2 giugno</em></h3><
	p>per una festa della Repubblica libera, di pace e partigiana in quel di V
	alibona</p><p>Info e programma <a target="_blank" href="https://docs.googl
	e.com/forms/d/e/1FAIpQLScyeSrwwWrJcD3izouKlWTDg0HhyuBiYCsk21lyVxxio6RUrA/v
	iewform?usp=dialog">https://docs.google.com/forms/d/e/1FAIpQLScyeSrwwWrJcD
	3izouKlWTDg0HhyuBiYCsk21lyVxxio6RUrA/viewform?usp=dialog</a></p><p>invito 
	libero, richiesta di compilazione del form per agevolare l'organizzazione.
	 Grazie</p>
END:VEVENT
END:VCALENDAR
